BEGIN:VCALENDAR
VERSION:2.0
PRODID:-//wp-events-plugin.com//7.2.3.1//EN
TZID:America/New_York
X-WR-TIMEZONE:America/New_York
BEGIN:VEVENT
UID:132@coolcleveland.com
DTSTART;TZID=America/New_York;VALUE=DATE:20260317
DTEND;TZID=America/New_York;VALUE=DATE:20260318
DTSTAMP:20260402T040950Z
URL:https://coolcleveland.com/events/young-british-classical-pianist-perfo
 rms-solo-recital-at-severance-music-center/
SUMMARY:Young British Classical Pianist Performs Solo Recital at Severance 
 Music Center
DESCRIPTION:\nTue 3/17 @ 7:30PM\nIsata Kanneh-Mason is a young (29 years ol
 d) British classical pianist whose career is on the rise. She’s played w
 ith major British and European orchestras and was artist-in-residence at t
 he Royal Philharmonic Orchestra during its 2022-23 season. She’s already
  released five albums including one with her brother\, 26-year-old cellist
  Sheku Kanneh-Mason. In fact\, she and her six siblings\, performing as th
 e Kanneh-Masons\, have become something of a phenomenon in the home countr
 y\, all playing piano\, violin and cello\, despite their parents not being
  professional musicians —they were a business executive and university p
 rofessor\, although both were talented amateur musicians.\n\nWhen Kanneh-M
 ason\, currently on tour in the U.S.\, performs a solo recital at Severanc
 e music Center\, her program will include two Beethoven sonatas\, No. 14 (
 “Moonlight”) and No. 21 (“Waldstein”) Maurice Ravel’s Gaspard de
  la nuit\, and two pieces by 46-year-old British-Bulgarian Dobrinka Tabako
 va\, Nocturne and Halo.\n\nGet tickets here.\n\nisata-kanneh-mason-in-reci
 tal\n\n[mappress mapid="5027"]
ATTACH;FMTTYPE=image/jpeg:https://coolcleveland.com/wp-content/uploads/202
 6/03/Isata.jpeg
CATEGORIES:college,Performance,----WRITERS----,Anastasia
 Pantsios,Preview,RSS,Music: Classical
END:VEVENT
BEGIN:VTIMEZONE
TZID:America/New_York
X-LIC-LOCATION:America/New_York
BEGIN:DAYLIGHT
DTSTART:20260308T030000
TZOFFSETFROM:-0500
TZOFFSETTO:-0400
TZNAME:EDT
END:DAYLIGHT
END:VTIMEZONE
END:VCALENDAR