BEGIN:VCALENDAR
VERSION:2.0
PRODID:-//wp-events-plugin.com//7.2.3.1//EN
TZID:America/New_York
X-WR-TIMEZONE:America/New_York
BEGIN:VEVENT
UID:2762@coolcleveland.com
DTSTART;TZID=America/New_York;VALUE=DATE:20260429
DTEND;TZID=America/New_York;VALUE=DATE:20260430
DTSTAMP:20260421T174851Z
URL:https://coolcleveland.com/events/writers-talk-about-the-challenges-of-
 unearthing-material-on-local-music-history/
SUMMARY:Writers Talk About the Challenges of Unearthing Material on Local M
 usic History
DESCRIPTION:\nWed 4/29 @ 6-7:30PM\nCleveland has a long and complicated mus
 ic history that has been documented erratically by local historians and au
 thors. Cleveland Rocks: Past Present Future\, the nonprofit founded by Bea
 chland co-owner Cindy Barber (one of the people who has documented it)\, p
 rovides resources to the area’s many talented musicians to help them fur
 ther their careers. But as its name suggests it also has a mission to pres
 erve the scene’s history.\nSo Barber will be moderating a panel\, taking
  place at Visible Voice Books in Ohio City\, addressing that history and w
 hat resources are available to unearth it. Panelists include Anastasia Pan
 tsios\, who has been writing about local music for publications including 
 The Plain Dealer\, U.S. Rocker\, The Patrol\, the Free Times and Scene for
  more than 50 years. During that the she has amassed a huge collection of 
 materials relating to the local music\, including her own photos\, which s
 he is in the process of donating to the Rock Hall Library and Archives for
  public research\, while some of her material is also in the collection of
  the Western Reserve Historical society.\nPanelist Steve Traina is the lon
 gtime host of a folk music show on Case Western Reserve University radio s
 tation WRUW-91.1FM. He was fortunate enough to acquire the files of Clevel
 and’s legendary music club La Cave from its former owners before they pa
 ssed\, and he used those files to publish a detailed book in 2024\, tellin
 g the club’s story and recalling the many artists who played there as it
  evolved from a folk club to a rock venue hosting bands such as the Velvet
  Underground.\nThe final panelist is journalist Carlo Wolff\, who assemble
 d a scrapbook/oral of the music scene in Cleveland Rock and Roll Memories.
  But more importantly\, he dug into Cleveland’s little documented  soul
  scene\, which had less visibility than the rock scene\, searching in obsc
 ure corners for participants’ hidden memories.\n The event is free and 
 open to all.\n[mappress mapid="5042"]\nhttps://clevelandrocksppf.org/event
 /panel-cle-rocknroll/
ATTACH;FMTTYPE=image/jpeg:https://coolcleveland.com/wp-content/uploads/202
 6/04/MusicHistoryPanel.jpeg
CATEGORIES:college,Music: Rock and
 Roll,Education,History,----WRITERS----,Music: Popular,Anastasia
 Pantsios,Preview,Free,RSS,Music: Jazz / Blues,Literary
END:VEVENT
BEGIN:VTIMEZONE
TZID:America/New_York
X-LIC-LOCATION:America/New_York
BEGIN:DAYLIGHT
DTSTART:20260308T030000
TZOFFSETFROM:-0500
TZOFFSETTO:-0400
TZNAME:EDT
END:DAYLIGHT
END:VTIMEZONE
END:VCALENDAR