BEGIN:VCALENDAR
VERSION:2.0
PRODID:-//wp-events-plugin.com//7.2.3.1//EN
TZID:America/New_York
X-WR-TIMEZONE:America/New_York
BEGIN:VEVENT
UID:125@coolcleveland.com
DTSTART;TZID=America/New_York;VALUE=DATE:20260321
DTEND;TZID=America/New_York;VALUE=DATE:20260322
DTSTAMP:20260402T040941Z
URL:https://coolcleveland.com/events/wild-scenic-film-festival-goes-to-bat
 -for-the-environment/
SUMMARY:Wild & Scenic Film Festival Goes to Bat for the Environment
DESCRIPTION:\nSat 3/21 @ 2-5PM\, 2:30-5:30PM\, 6-8PM and 6:30-8:30PM\nThe t
 ouring Wild &amp\; Scenic Film Festival will be making a return trip to No
 rtheast Ohio\, when the Summit Metro Parks Foundation brings it to the Nig
 htlight Cinema in downtown Akron.\nThe flagship festival was founded by en
 vironmental activists in California 24 years ago\, and features five days 
 of more than 100 films from all over the world\, along with workshops\, ta
 lks\, art exhibitions and parties to raise money for the South Yuba River 
 Citizens League to protect the river’s watershed and restore its wild sa
 lmon.\nA selection of the films tours across the country each year\, and a
 s you might expect\, many of them address issues such as climate change\, 
 pollution\, threatened species and healthy farming\, while many others are
  paeans to the beauty of the wilderness and the great outdoors — a more 
 subtle way of suggesting that this needs to be preserved\, restored and pr
 otected.\nThere are four screenings at The Nightlite which will all featur
 e the same films\, All proceeds benefit the Summit Metro Parks Foundation 
 to preserve and protect natural resources in Summit County for public enjo
 yment.\nGet tickets here\; they are only available in advance. Virtual tic
 kets are also available.\n2026WildScenicFilmFestival\n[mappress mapid="299
 7"]
ATTACH;FMTTYPE=image/jpeg:https://coolcleveland.com/wp-content/uploads/202
 6/03/WildScenic.jpg
CATEGORIES:college,Teen,Photography,Education,Film,----WRITERS----,Outdoor
 s,Anastasia Pantsios,Preview,RSS,Science,Nature/Environment,Sport
END:VEVENT
BEGIN:VTIMEZONE
TZID:America/New_York
X-LIC-LOCATION:America/New_York
BEGIN:DAYLIGHT
DTSTART:20260308T030000
TZOFFSETFROM:-0500
TZOFFSETTO:-0400
TZNAME:EDT
END:DAYLIGHT
END:VTIMEZONE
END:VCALENDAR