BEGIN:VCALENDAR
VERSION:2.0
PRODID:-//wp-events-plugin.com//7.2.3.1//EN
TZID:America/New_York
X-WR-TIMEZONE:America/New_York
BEGIN:VEVENT
UID:2750@coolcleveland.com
DTSTART;TZID=America/New_York;VALUE=DATE:20260424
DTEND;TZID=America/New_York;VALUE=DATE:20260425
DTSTAMP:20260421T042349Z
URL:https://coolcleveland.com/events/well-known-local-musician-ray-flanaga
 n-releases-his-first-ever-full-length-vinyl-album/
SUMMARY:Well-Known Local Musician Ray Flanagan Releases His First-Ever Full
 -Length Vinyl Album
DESCRIPTION:\nFri 4/24 @ 9PM\nGuitarist\, vocalist and prolific songwriter 
 Ray Flanagan is one of those “everywhere” musicians\, who performs in 
 so many contexts\, so many locations and with so many other musicians that
  you never know where he’ll turn up. He could do a solo show\, lead a ba
 nd or crop up as a sideman in someone else’s project. As his bio accurat
 ely states\, “Flanagan has performed with nearly everybody in the Northe
 ast Ohio music scene.”\nThis week he’ll pop up at Dunlap’s Corner Ba
 r to celebrate the release of his first-ever full-length vinyl album My Mi
 nd Is Burning Up\, pressed right here in Cleveland by Gotta Groove Records
 . Backing him up will be drummer Joe Tomino\, guitarist Anthony Papeleo an
 d vocalist/guitarist Josee McGee (who will also provide an opening set.)\n
 Go here for tickets.\nflanagan.net\n[mappress mapid="5059"]\n
ATTACH;FMTTYPE=image/jpeg:https://coolcleveland.com/wp-content/uploads/202
 6/04/RayFlanagan20206Guitar.jpeg
CATEGORIES:Drinks,college,Performance,----WRITERS----,Music:
 Popular,Anastasia Pantsios,Preview,RSS
END:VEVENT
BEGIN:VTIMEZONE
TZID:America/New_York
X-LIC-LOCATION:America/New_York
BEGIN:DAYLIGHT
DTSTART:20260308T030000
TZOFFSETFROM:-0500
TZOFFSETTO:-0400
TZNAME:EDT
END:DAYLIGHT
END:VTIMEZONE
END:VCALENDAR