BEGIN:VCALENDAR
VERSION:2.0
PRODID:-//wp-events-plugin.com//7.2.3.1//EN
TZID:America/New_York
X-WR-TIMEZONE:America/New_York
BEGIN:VEVENT
UID:161@coolcleveland.com
DTSTART;TZID=America/New_York;VALUE=DATE:20260318
DTEND;TZID=America/New_York;VALUE=DATE:20260319
DTSTAMP:20260402T041153Z
URL:https://coolcleveland.com/events/tri-c-jazzfest-concert-lineup-to-be-r
 evealed-at-legendary-count-basie-orchestra-concert/
SUMMARY:Tri-C JazzFest Concert Lineup to Be Revealed at Legendary Count Bas
 ie Orchestra Concert
DESCRIPTION:\nWed 3/18 @ 7:30PM\nIt was almost exactly a year ago when the 
 Legendary Count Basie Orchestra played at the Tri-C Metro Campus Auditoriu
 m — the same place they’ll be coming back to this week. No\, of course
 \, jazz pianist/composer/band leader Count Basie won’t be with them — 
 he died in 1984 at the age of 79 after a career that set the standards for
  the presentation of big band jazz.  He led his ensemble from 1935 until 
 his death\, working with vocalists such as Tony Bennett\, Sarah Vaughan\, 
 Ella Fitzgerald\, Joe Williams\, Billy Eckstine and even Frank Sinatra.\nH
 is music has lived on not just in his influence\, but in the ensemble that
  carries his name\, which performs his world-renowned compositions in the 
 style he created. It’s been led since 2013 by Grammy-winning jazz trumpe
 t player Scotty Barnhart.\nBut before they take the stage\, something else
  special will happen: the audience will be the first to learn the lineup o
 f theater shows at this year’s Tri-C JazzFest\, taking place June 25-27 
 at Playhouse Square.\nGo here for tickets for the big reveal and the music
  of the Legendary Count Basie Orchestra.\ntri-c-performing-arts-presents-t
 he-count-basie-orchestra\n[mappress mapid="1005"]
ATTACH;FMTTYPE=image/jpeg:https://coolcleveland.com/wp-content/uploads/202
 6/03/TriCCountBasie.jpeg
CATEGORIES:college,Education,Festival,Performance,----WRITERS----,Anastasi
 a Pantsios,Preview,RSS,Music: Jazz / Blues
END:VEVENT
BEGIN:VTIMEZONE
TZID:America/New_York
X-LIC-LOCATION:America/New_York
BEGIN:DAYLIGHT
DTSTART:20260308T030000
TZOFFSETFROM:-0500
TZOFFSETTO:-0400
TZNAME:EDT
END:DAYLIGHT
END:VTIMEZONE
END:VCALENDAR