BEGIN:VCALENDAR
VERSION:2.0
PRODID:-//wp-events-plugin.com//7.2.3.1//EN
TZID:America/New_York
X-WR-TIMEZONE:America/New_York
BEGIN:VEVENT
UID:2705@coolcleveland.com
DTSTART;TZID=America/New_York;VALUE=DATE:20260419
DTEND;TZID=America/New_York;VALUE=DATE:20260420
DTSTAMP:20260414T174949Z
URL:https://coolcleveland.com/events/st-james-church-presents-an-afternoon
 -of-sacred-music-from-the-12th-21st-centuries/
SUMMARY:St. James Church Presents an Afternoon of Sacred Music from the 12t
 h-21st Centuries
DESCRIPTION:\nSun 4/19 @ 4PM\nLakewood’s St. James Catholic Church presen
 ts music in its opulent space in a series called “The Sounds of St. Jame
 s.” It draws on some of the most outstanding\, as well as up-and-coming\
 , classical musicians in the area.\nThis Sunday\, April 19\, it’s presen
 ting an Afternoon of Sacred Music with Case Western Reserve University’s
  Early Music Singers under the direction of Dr. Elena Bailey and the Aeter
 na Chamber Choir led by James Flood\, along with special guests.\nAmong th
 e many pieces it will perform are Hildegard von Bingen’s Pieces for Two 
 Voices\, featuring Bailey and Rosemary Heredos\, both of whom perform with
  the Trobar Ensemble\; Manuel Gomez performing an excerpt from J.S. Bach
 ’s Christmas Oratorio\; and Anna Judkins playing Joseph Jongen’s Chora
 l for organ Op. 37\, no. 4. The Aeterna Choir will sing Mozart’s Ave Ver
 um and G.P. Palestrina’s Exsultate Deo. The program’s selections range
  from the 12th to the 21st century and include solo and choral works\, org
 an and instrumental pieces.\nAdmission is free—donations are welcome—a
 nd there is a reception following the concert.\nsounds-of-st-james-featuri
 ng-early-music-singers-of-cwru-aeterna-chamber-choir\n[mappress mapid="998
 "]
ATTACH;FMTTYPE=image/jpeg:https://coolcleveland.com/wp-content/uploads/202
 6/04/StJames.jpeg
CATEGORIES:college,Teen,Performance,----WRITERS----,Anastasia
 Pantsios,Preview,Free,RSS,Music: Classical
END:VEVENT
BEGIN:VTIMEZONE
TZID:America/New_York
X-LIC-LOCATION:America/New_York
BEGIN:DAYLIGHT
DTSTART:20260308T030000
TZOFFSETFROM:-0500
TZOFFSETTO:-0400
TZNAME:EDT
END:DAYLIGHT
END:VTIMEZONE
END:VCALENDAR