BEGIN:VCALENDAR
VERSION:2.0
PRODID:-//wp-events-plugin.com//7.2.3.1//EN
TZID:America/New_York
X-WR-TIMEZONE:America/New_York
BEGIN:VEVENT
UID:2756@coolcleveland.com
DTSTART;TZID=America/New_York;VALUE=DATE:20260425
DTEND;TZID=America/New_York;VALUE=DATE:20260426
DTSTAMP:20260421T140650Z
URL:https://coolcleveland.com/events/spaces-monster-drawing-rally-is-back-
 bringing-artists-together-to-make-work-in-the-gallery/
SUMMARY:SPACES' Monster Drawing Rally Is Back\, Bringing Artists Together t
 o Make Work in the Gallery
DESCRIPTION:\nSat 4/25 @ 5:30PM\nArtist-focused gallery SPACES appears to b
 e stretching and coming to life again after an unsettling period following
  the pandemic that included changes in leadership. Now interim director Pi
 ta Brooks\, who formerly led another artist-focused space\, Akron Soul Tra
 in\, has been formally named executive director\, hopefully leading to a r
 evival of activity in its spacious Ohio City facility.\nOne good sign is t
 he return of its annual Monster Drawing Rally\, back for the first time si
 nce the pandemic. It’s a day for artists and art-lover to come\, hang ou
 t\, and support and join in artmaking.\nAt this event more than 75 area ar
 tists\, from art students to much-exhibited veterans\, produce work in rea
 l time in three one-hour shifts. When a work is finished\, it goes on the 
 wall\, and visitors vie to purchase their favorites for a flat $100 each. 
 Artists work in a variety of media including pencil\, watercolor\, ink and
  acrylic — and some don’t even technically draw: some work in collage 
 or assemblage.\nIn addition\, visitors can have a 15-minute “Face-to-Fac
 e” portrait session in the Lab for $20\, or enter a raffle for goods and
  services donated by local businesses.\nDoors open at 5:30pm\, with rounds
  going from 6-7pm\, 7:30-8:30pm and 9-10pm. The event wraps up with raffle
  winners announced from 10-10:30pm.\nmonster-drawing-rally-2026-drawn-toge
 ther\n[mappress mapid="3922"]
ATTACH;FMTTYPE=image/jpeg:https://coolcleveland.com/wp-content/uploads/202
 6/04/MonsterDrawing.jpeg
CATEGORIES:college,Teen,Kids,Education,Party,Entrepreneurialism,Visual
 Arts,----WRITERS----,Anastasia Pantsios,Preview,RSS,Contest,Benefit
END:VEVENT
BEGIN:VTIMEZONE
TZID:America/New_York
X-LIC-LOCATION:America/New_York
BEGIN:DAYLIGHT
DTSTART:20260308T030000
TZOFFSETFROM:-0500
TZOFFSETTO:-0400
TZNAME:EDT
END:DAYLIGHT
END:VTIMEZONE
END:VCALENDAR