BEGIN:VCALENDAR
VERSION:2.0
PRODID:-//wp-events-plugin.com//7.2.3.1//EN
TZID:America/New_York
X-WR-TIMEZONE:America/New_York
BEGIN:VEVENT
UID:2008@coolcleveland.com
DTSTART;TZID=America/New_York;VALUE=DATE:20250609
DTEND;TZID=America/New_York;VALUE=DATE:20250610
DTSTAMP:20260402T084549Z
URL:https://coolcleveland.com/events/slow-roll-cleveland-riders-roll-out-t
 he-rainbow-gear-for-its-pride-ride/
SUMMARY:Slow Roll Cleveland Riders Roll Out the Rainbow Gear for Its Pride 
 Ride
DESCRIPTION:[caption id="attachment_167863" align="alignnone" width="700"] 
 Screenshot[/caption]\nMon 6/9 @ 7PM\nEvery Monday from May through October
 \, weather permitting\, Slow Roll Cleveland rolls out from a different cit
 y neighborhood for a comfortably paced\, approximately ten-mile ride\, sui
 table for all ages and all levels of cycling experience.\nOne of Slow Roll
  Cleveland’s biggest rides of the season is coming up — its annual Pri
 de Ride\, rolling out from Edgewater Park. Decorate your bike (and yoursel
 f) in your proudest array of rainbow gear and show off your commitment to 
 inclusivity and support for the right of everyone to be themselves.\nRegis
 tration starts at 6pm\; ride rolls out at 7. It’s free and open to all. 
 “Squad” members are on hand to help out anyone with problems.\nslowrol
 lcleveland\n[mappress mapid="3286"]
ATTACH;FMTTYPE=image/jpeg:https://coolcleveland.com/wp-content/uploads/202
 5/06/PrideRide-11.47.35 PM.jpeg
CATEGORIES:Literary,Commentary,New,Help,Hot,Tags,Review,Bikes,Sport,Pet
 Events,college,RSS,Free,Preview,Anastasia
 Pantsios,Outdoors,----WRITERS----,Kids,Teen
END:VEVENT
BEGIN:VTIMEZONE
TZID:America/New_York
X-LIC-LOCATION:America/New_York
BEGIN:DAYLIGHT
DTSTART:20250309T030000
TZOFFSETFROM:-0500
TZOFFSETTO:-0400
TZNAME:EDT
END:DAYLIGHT
END:VTIMEZONE
END:VCALENDAR