BEGIN:VCALENDAR
VERSION:2.0
PRODID:-//wp-events-plugin.com//7.2.3.1//EN
TZID:America/New_York
X-WR-TIMEZONE:America/New_York
BEGIN:VEVENT
UID:2749@coolcleveland.com
DTSTART;TZID=America/New_York;VALUE=DATE:20260429
DTEND;TZID=America/New_York;VALUE=DATE:20260430
DTSTAMP:20260421T041948Z
URL:https://coolcleveland.com/events/pianist-richard-goode-travels-through
 -the-centuries-in-music-at-oberlin/
SUMMARY:Pianist Richard Goode Travels Through the Centuries in Music at Obe
 rlin
DESCRIPTION:\nWed 4/29 @ 7:30PM\nAmerican pianist Richard Goode\, now 82\, 
 has built a stellar reputation for his interpretations of two composers th
 at audiences will never tire of hearing: Beethoven and Mozart. But his ext
 ensive discography is wide-ranging: he’s recorded work by composers from
  the Renaissance to the 20th century.\nWhen he comes to Oberlin’s Finney
  Chapel this week\, he’ll be displaying that range. The program kicks of
 f with Mozart’s Piano Sonata in A Minor\, K. 310\, and closes with anoth
 er composer who is a staple of classical music programs: Franz Schubert\, 
 another Austrian who lived a short life and left a big impact. He’ll be 
 performing his Piano Sonata No. 21 in B-flat Major\, D.960.\nIn between\,
  he’ll play a series of pieces he calls Fancies and Goodnights\, which f
 eatures works by Carlo Gesualdo\, William Byrd\, Jean-Philippe Rameau\, Ch
 ristoph Willibald Gluck\, Georges Bizet\, Ignacy Jan Paderewski\, Leoš Ja
 náček and\, again Schubert\, time-traveling from the mid-16th century t
 o the mid 20th.\nGo here for tickets.\noberlin/richard-goode\n[mappress ma
 pid="832"]\n\n&nbsp\;
ATTACH;FMTTYPE=image/jpeg:https://coolcleveland.com/wp-content/uploads/202
 6/04/RichardGoode.jpg
CATEGORIES:college,Performance,----WRITERS----,Anastasia
 Pantsios,Preview,RSS,Music: Classical
END:VEVENT
BEGIN:VTIMEZONE
TZID:America/New_York
X-LIC-LOCATION:America/New_York
BEGIN:DAYLIGHT
DTSTART:20260308T030000
TZOFFSETFROM:-0500
TZOFFSETTO:-0400
TZNAME:EDT
END:DAYLIGHT
END:VTIMEZONE
END:VCALENDAR