BEGIN:VCALENDAR
VERSION:2.0
PRODID:-//wp-events-plugin.com//7.2.3.1//EN
TZID:America/New_York
X-WR-TIMEZONE:America/New_York
BEGIN:VEVENT
UID:2742@coolcleveland.com
DTSTART;TZID=America/New_York;VALUE=DATE:20260428
DTEND;TZID=America/New_York;VALUE=DATE:20260429
DTSTAMP:20260421T035841Z
URL:https://coolcleveland.com/events/oberlin-based-verona-quartet-and-pain
 ist-yaron-kohlberg-play-at-cleveland-museum-of-art/
SUMMARY:Oberlin-Based Verona Quartet and Painist Yaron Kohlberg Play at Cle
 veland Museum of Art
DESCRIPTION:\nTue 4/28 @ 7:30PM\nAs string quartets go\, the Verona Quartet
  is relatively young\, having been founded in 2013 at Indiana University
 ’s famous music school. The members of the now internationally celebrate
 d ensemble have studied and taught at a variety of top music schools\, and
  they are current on the faculty sat Oberlin College and Conservatory wher
 e they are the quartet in residence. With Oberlin as its base\, their tour
 ing career has taken them all over the globe where they perform both class
 ic and modern as well as music they’ve commissioned from contemporary co
 mposers. The ensemble features Jonathan Ong and Dorothy Ro on violins\, Ab
 igail Rojanksy on viola and Jonathan Dormand on cello.\nThey perform in th
 eir own backyard as well\, where they can drive to a performance and sleep
  in their own beds that night. They kicked off the Rocky River Chamber Mus
 ic Society’s 2015-2016 series\, and now they’ll be performing for the 
 Cleveland Chamber Music Society at the Cleveland Museum of Art’s Gartner
  Auditorium.\nThat program will include Alessandro Scarlatti’s Sonata a 
 Quattre No. 4 (1720) Philip Glass’s String Quartet No. 2 (“Company’)
 \, Leoš Janáček’s String Quartet No. 1 (“The Kreutzer Sonata”) an
 d Antonín Dvořák's Quintet or Piano and Strings in A major\, Op. 81. On
  the latter piece\, they’ll be joined by Israeli pianist Yaron Kohlberg\
 , artistic director of the Cleveland International Piano Competition which
  he won in 2007.\nGet tickets here.\n[mappress mapid="3131"]
ATTACH;FMTTYPE=image/jpeg:https://coolcleveland.com/wp-content/uploads/202
 6/04/VeronaQuartet.jpeg
CATEGORIES:college,Performance,----WRITERS----,Anastasia
 Pantsios,Preview,RSS,Music: Classical
END:VEVENT
BEGIN:VTIMEZONE
TZID:America/New_York
X-LIC-LOCATION:America/New_York
BEGIN:DAYLIGHT
DTSTART:20260308T030000
TZOFFSETFROM:-0500
TZOFFSETTO:-0400
TZNAME:EDT
END:DAYLIGHT
END:VTIMEZONE
END:VCALENDAR