BEGIN:VCALENDAR
VERSION:2.0
PRODID:-//wp-events-plugin.com//7.2.3.1//EN
TZID:America/New_York
X-WR-TIMEZONE:America/New_York
BEGIN:VEVENT
UID:652@coolcleveland.com
DTSTART;TZID=America/New_York;VALUE=DATE:20251208
DTEND;TZID=America/New_York;VALUE=DATE:20260112
DTSTAMP:20260402T045549Z
URL:https://coolcleveland.com/events/news-big-funs-steve-presser-is-back-o
 n-coventry-with-a-pop-up-shop-of-cleveland-related-items/
SUMMARY:NEWS: Big Fun's Steve Presser Is Back on Coventry with a Pop-Up Sho
 p of Cleveland-Related Items
DESCRIPTION:[caption id="attachment_170414" align="alignnone" width="700"] 
 Photo by Anastasia Pantsios[/caption]\nSteve Presser’s toy shop for all 
 ages\, Big Fun\, was a staple on Cleveland Heights Coventry Road for three
  decades before the landlord forced him out in 2018. Somehow\, nothing eve
 r filled the space\, and Presser hosted pop-up holiday shops there in 2023
  and 2024\, promising last year he was done with that.\nHowever\, he had s
 tarted looking for a space where he could just be a vendor and not the ope
 rators\, and something came up in another now-empty space on Coventry that
  once held a beloved business\; the old Record Revolution site. So he will
  be in that space for the holiday\, along with four other vendors where he
 ’ll take half the space to focus primarily on vintage Cleveland-related 
 items. Among the things he’s promising to have are Hough Bakery boxes an
 d bags\, T-shirts and posters with Frank Gerhy’s Progressive Building on
  the CWRU campus\, and items from the Rock and Roll Hall of Fame and the C
 leveland Zoo\, as well as old bumper stickers\, posters and backstage pass
 es from the ’80s and ’90s.\nThe other four vendors\, we’re told\, wi
 ll be selling plants\, baked goods\, vegan dog treats\, and essential oils
  and candles.\nThe shop is open Monday through Saturday noon-7pm\, and Sun
 day noon-6pm through Sunday January 11\, except for Christmas Day\, and Ne
 w Year’s Day. It will be open from noon-4pm on Christmas and New Year’
 s Eve.\n[mappress mapid="1104"]
ATTACH;FMTTYPE=image/jpeg:https://coolcleveland.com/wp-content/uploads/202
 5/12/BigFun.jpeg
CATEGORIES:college,Teen,Entrepreneurialism,Visual
 Arts,----WRITERS----,Anastasia Pantsios,Preview,RSS
END:VEVENT
BEGIN:VTIMEZONE
TZID:America/New_York
X-LIC-LOCATION:America/New_York
BEGIN:STANDARD
DTSTART:20251102T010000
TZOFFSETFROM:-0400
TZOFFSETTO:-0500
TZNAME:EST
END:STANDARD
END:VTIMEZONE
END:VCALENDAR