BEGIN:VCALENDAR
VERSION:2.0
PRODID:-//wp-events-plugin.com//7.2.3.1//EN
TZID:America/New_York
X-WR-TIMEZONE:America/New_York
BEGIN:VEVENT
UID:2739@coolcleveland.com
DTSTART;TZID=America/New_York;VALUE=DATE:20260423
DTEND;TZID=America/New_York;VALUE=DATE:20260424
DTSTAMP:20260421T034841Z
URL:https://coolcleveland.com/events/local-quintet-with-windswept-hair-dro
 ps-debut-release-at-grog-shop/
SUMMARY:Local Quintet With Windswept Hair Drops Debut Release at Grog Shop
DESCRIPTION:\n\nThu 4/23 @ 8PM\nCleveland Heights quintet With Windswept Ha
 ir describes itself as an “indie/art/pop band.” They’re pretty new o
 n the scene\, having been working together as an ensemble since 2023. Now 
 they’re releasing the result of their work with the physical release of 
 their debut album Hanging by a Thread\, which they’ll be presenting with
  a show at the Grog Shop.\nThey’ll be joined by “Southern gothic soul
 ” band Slow Groove Kings\, and the husband-wife band By Light We Loom\, 
 which was making waves in the area a decade ago but say they had hit a cre
 ative rut in 2024 and took a break. With Eric Ling and Shanna Delaney now 
 joined by Evan Storey and Jesse Scaggs\, the duo (which was formerly augme
 nted by electronic looping) has become a live quartet. They reworked the o
 ld music for the new format and debuted it last year\, and they plan to re
 lease new music this year.\nGo here for tickets.\nwith-windswept-hair-slow
 -groove-kings-by-light-we-loom/\n[mappress mapid="629"]
ATTACH;FMTTYPE=image/jpeg:https://coolcleveland.com/wp-content/uploads/202
 6/04/WithWindsweptHair.jpeg
CATEGORIES:Drinks,college,Performance,----WRITERS----,Music:
 Popular,Anastasia Pantsios,Preview,RSS
END:VEVENT
BEGIN:VTIMEZONE
TZID:America/New_York
X-LIC-LOCATION:America/New_York
BEGIN:DAYLIGHT
DTSTART:20260308T030000
TZOFFSETFROM:-0500
TZOFFSETTO:-0400
TZNAME:EDT
END:DAYLIGHT
END:VTIMEZONE
END:VCALENDAR