BEGIN:VCALENDAR
VERSION:2.0
PRODID:-//wp-events-plugin.com//7.2.3.1//EN
TZID:America/New_York
X-WR-TIMEZONE:America/New_York
BEGIN:VEVENT
UID:2755@coolcleveland.com
DTSTART;TZID=America/New_York;VALUE=DATE:20260424
DTEND;TZID=America/New_York;VALUE=DATE:20260427
DTSTAMP:20260421T045849Z
URL:https://coolcleveland.com/events/les-delices-features-soprano-hannah-d
 e-priest-in-all-handel-program/
SUMMARY:Les Delices Features Soprano Hannah De Priest in All-Handel Program
DESCRIPTION:\nFri 4/24 @ 7:30PM\nSat 4/25 @ 4PM\nSun 4/26 @ 4PM\nCleveland 
 chamber orchestra Les Delices’ next program “Starstruck” features on
 e of its familiar faces — or voices\, if you will: frequent collaborator
 \, soprano Hannah de Priest. She’ll be featured in a program consisting 
 entire of the music of 18th-century German-British composer Frideric Hande
 l’s\, including his seldom heard Italian cantatas and chamber music. She
 ’ll song excerpts from his 1709 cantata Apollo e Dafne and his motel Sil
 ete Venti. The program will also include instrumental works played by the 
 ensemble.\n\nThey’ll perform the program on Friday April 24 at Akron’s
  Westminster Presbyterian Church\, on Saturday Apri l25 at Heights Theatre
  in Cleveland Heights\, and on Sunday April 25 at the West Shore Unitarian
  Universalist Church in Rocky River.\n\nGo here for tickets.\n\nlesdelices
 \n\n[mappress mapid="2288"]\n\n[mappress mapid="607"]\n\n[mappress mapid="
 991"]\n\n&nbsp\;
ATTACH;FMTTYPE=image/jpeg:https://coolcleveland.com/wp-content/uploads/202
 6/04/LesDelices.jpg
CATEGORIES:college,Performance,----WRITERS----,Anastasia
 Pantsios,Preview,RSS,Music: Classical
END:VEVENT
BEGIN:VTIMEZONE
TZID:America/New_York
X-LIC-LOCATION:America/New_York
BEGIN:DAYLIGHT
DTSTART:20260308T030000
TZOFFSETFROM:-0500
TZOFFSETTO:-0400
TZNAME:EDT
END:DAYLIGHT
END:VTIMEZONE
END:VCALENDAR