BEGIN:VCALENDAR
VERSION:2.0
PRODID:-//wp-events-plugin.com//7.2.3.1//EN
TZID:America/New_York
X-WR-TIMEZONE:America/New_York
BEGIN:VEVENT
UID:2740@coolcleveland.com
DTSTART;TZID=America/New_York;VALUE=DATE:20260426
DTEND;TZID=America/New_York;VALUE=DATE:20260427
DTSTAMP:20260421T035242Z
URL:https://coolcleveland.com/events/join-an-earth-day-meditation-ceremony
 -at-nature-center-at-shaker-lakes/
SUMMARY:Join an Earth Day Meditation Ceremony at Nature Center at Shaker La
 kes
DESCRIPTION:\nSun 4/26 @ 3-5PM\nEnjoy some herbal beverages and some guided
  meditation to celebrate Earth Day when the Nature Center at Shaker Lakes 
 presents an event exploring “the regenerative power of the natural world
 .”\nJoin the circle to learn about and create a blend of herbal tea to t
 ake home with Amber of Cleveland Tea Revival\, savor a botanical non-alcoh
 olic beverage from Molly of Verbena Free-Spirited Shoppe and take part in 
 a guided meditation ceremony with Caressa of Caressa Joy-Centered Life. In
  addition to the tea blend\, each participant will get a potted plant and 
 a blessing stone to take home to connect them with their experience.\nRegi
 stration is required. Go here to buy tickets.\nearth-day-meditation-ceremo
 ny/\n[mappress mapid="103"]
ATTACH;FMTTYPE=image/jpeg:https://coolcleveland.com/wp-content/uploads/202
 6/04/EarthDayMeditation.jpeg
CATEGORIES:Drinks,college,Teen,Spirituality,Education,----WRITERS----,Anas
 tasia Pantsios,Preview,RSS,Garden,Nature/Environment,Healthy
END:VEVENT
BEGIN:VTIMEZONE
TZID:America/New_York
X-LIC-LOCATION:America/New_York
BEGIN:DAYLIGHT
DTSTART:20260308T030000
TZOFFSETFROM:-0500
TZOFFSETTO:-0400
TZNAME:EDT
END:DAYLIGHT
END:VTIMEZONE
END:VCALENDAR