BEGIN:VCALENDAR
VERSION:2.0
PRODID:-//wp-events-plugin.com//7.2.3.1//EN
TZID:America/New_York
X-WR-TIMEZONE:America/New_York
BEGIN:VEVENT
UID:483@coolcleveland.com
DTSTART;TZID=America/New_York;VALUE=DATE:20260116
DTEND;TZID=America/New_York;VALUE=DATE:20260117
DTSTAMP:20260402T043850Z
URL:https://coolcleveland.com/events/jazz-musicians-reinterpret-django-rei
 nhardt-at-visible-voice-books/
SUMMARY:Jazz Musicians Reinterpret Django Reinhardt at Visible Voice Books
DESCRIPTION:\nFri 1/16 @ 8:30PM\nJazz guitarist Django Reinhardt was a Roma
 ni (often called “gypsy”) musician whose sound\, created in partnershi
 p with violinist Stephane Grapelli\, was the toast of Paris in the 1930s\,
  later dubbed “gypsy jazz.” They formed an ensemble called the Quintet
 te du Hot Club of France\, who influence has persisted to this day in coun
 tless bands calling themselves the “Hot Club of [San Francisco/Detroit/C
 owtown/Baltimore/Akron].\nCleveland jazz guitarist Brent Hamker is one of 
 the many musicians still enthralled by this style of music nearly 100 year
 s later. He performed for around five years with the Akron-based gypsy jaz
 z-style ensemble Mustache Yourself!\, and is continuing to work in that ve
 in with a smaller\, different lineup of instruments including bassist Kevi
 n Martinez and clarinetist Brad Wagner.  They’ll be playing in the new 
 performance space at the back of the new Visible Voice Books location\, wh
 ere the movie theater used to be\, offering both gypsy jazz tunes and Amer
 ican jazz standards. There’s a $5 cover at the door\, which is a lot of 
 music for very little money. And you can browse books before the concert. 
 What more could you ask of an evening?\nlive-music-a-tribute-to-django-rei
 nhardt\n[mappress mapid="528"]
ATTACH;FMTTYPE=image/jpeg:https://coolcleveland.com/wp-content/uploads/202
 6/01/Django.jpeg
CATEGORIES:Drinks,college,Eats,Performance,----WRITERS----,Anastasia
 Pantsios,Preview,RSS,Music: Jazz / Blues,Literary
END:VEVENT
BEGIN:VTIMEZONE
TZID:America/New_York
X-LIC-LOCATION:America/New_York
BEGIN:STANDARD
DTSTART:20251102T010000
TZOFFSETFROM:-0400
TZOFFSETTO:-0500
TZNAME:EST
END:STANDARD
END:VTIMEZONE
END:VCALENDAR