BEGIN:VCALENDAR
VERSION:2.0
PRODID:-//wp-events-plugin.com//7.2.3.1//EN
TZID:America/New_York
X-WR-TIMEZONE:America/New_York
BEGIN:VEVENT
UID:2745@coolcleveland.com
DTSTART;TZID=America/New_York;VALUE=DATE:20260424
DTEND;TZID=America/New_York;VALUE=DATE:20260425
DTSTAMP:20260421T040742Z
URL:https://coolcleveland.com/events/jazz-based-ensemble-slow-water-plays-
 music-based-on-book-about-waters-natural-rhythms/
SUMMARY:Jazz-Based Ensemble Slow Water Plays Music Based on Book About Wate
 r's Natural Rhythms
DESCRIPTION:\nFri 4/24 @ 7:30-9PM\nScience/environmental writer Erica Geis
 ’ 2021 book\, Water Always Wins: Thriving in an Age of Drought and Delug
 e\, looks at how our attempts to control floods and ameliorate drought in 
 an age of climate change have in fact made things worse. She shines a ligh
 t on something called the Slow Water movement in which working with water
 ’s rhythms and its natural interaction with the Earth are privileged ove
 r control.\nBrookyln-based bassist/composer Stephan Crump\, whose music is
  rooted in jazz but branches out in a variety of direction\, has put toget
 her a sextet classed Slow Water whose work is inspired by Geis’ book. Li
 ving and working in Brooklyn for more than three decades\, Crump has worke
 d with a long list of a groundbreaking and genre-spanning musicians\, as w
 ell as led numerous experimental ensembles of his own. He played with note
 d cross-genre groundbreaker Vijay Iyer’s trio for two decades.\nSlow Wat
 er\, which includes Yuhan Su on vibraphone\, Fung Chern Hwei on viola\, Er
 ica Dicker on violin\, Jacon Harchik on trombone and Kenny Warren on trump
 et\, all with deep roots in experimental music\, in addition to Crump hims
 elf on acoustic bass\, will be performing at the Cleveland Museum of Art
 ’s Gartner Auditorium. Go here for tickets.\nstephan-crump-slow-water\n[
 mappress mapid="3131"]
ATTACH;FMTTYPE=image/jpeg:https://coolcleveland.com/wp-content/uploads/202
 6/04/StephanCrump.jpeg
CATEGORIES:college,Performance,----WRITERS----,Anastasia
 Pantsios,Preview,RSS,Music: Jazz / Blues,Nature/Environment
END:VEVENT
BEGIN:VTIMEZONE
TZID:America/New_York
X-LIC-LOCATION:America/New_York
BEGIN:DAYLIGHT
DTSTART:20260308T030000
TZOFFSETFROM:-0500
TZOFFSETTO:-0400
TZNAME:EDT
END:DAYLIGHT
END:VTIMEZONE
END:VCALENDAR