BEGIN:VCALENDAR
VERSION:2.0
PRODID:-//wp-events-plugin.com//7.2.3.1//EN
TZID:America/New_York
X-WR-TIMEZONE:America/New_York
BEGIN:VEVENT
UID:1028@coolcleveland.com
DTSTART;TZID=America/New_York;VALUE=DATE:20251028
DTEND;TZID=America/New_York;VALUE=DATE:20251115
DTSTAMP:20260402T052850Z
URL:https://coolcleveland.com/events/jane-goodall-is-remembered-in-film-sc
 reening-at-cleveland-museum-of-natural-history/
SUMMARY:Jane Goodall Is Remembered in Film Screening at Cleveland Museum of
  Natural History
DESCRIPTION:\nThrough Fri 11/14\nAnthopologist Jane Goodall\, who died Octo
 ber 1 at the age of 91\, was an example of a life well lived. Widely recog
 nized for her work with chimpanzees in Tanzania\, she was also an avid con
 servationist\, known as a passionate advocate for protecting our environme
 nt and our Earth.\nHer recent death has caused people to reflect on the po
 sitive contributions she made and the importance of pushing back on the we
 althy and powerful using up natural resources for their own benefit. So th
 e Cleveland Museum of natural History is bringing the 2023 Canadian docume
 ntary Jane Goodall: Reasons for Hope (something we could all use more of r
 ight now!) for a limited run\, through Friday November 14.\nThe film featu
 res uplifting stories about environmental good news including  the Northe
 rn Bald Ibis’ migration over the Alps\, the Blackfeet Nation’s re-intr
 oduction of the American Bison\, the restoration of a landscape damaged by
  mining in Sudbury\, Northern Ontario\, and youth-led initiatives involved
  in Jane Goodall's Roots &amp\; Shoots.\nThey tell us that “the ﬁlm re
 inforces Jane's four pillars of hope that signal tremendous hope for the f
 uture: the amazing human intellect\, the resilience of nature\, the power 
 and dedication of young people\, and the indomitable human spirit.”\nPur
 chase tickets to one of the multiple daily screenings here.\njane-goodall-
 -reasons-for-hope\n[mappress mapid="3265"]
ATTACH;FMTTYPE=image/jpeg:https://coolcleveland.com/wp-content/uploads/202
 5/10/JaneGoodall.jpg
CATEGORIES:college,Teen,Kids,Education,History,Film,----WRITERS----,Outdoo
 rs,Anastasia Pantsios,Preview,RSS,Science,Nature/Environment,Travel
END:VEVENT
BEGIN:VTIMEZONE
TZID:America/New_York
X-LIC-LOCATION:America/New_York
BEGIN:DAYLIGHT
DTSTART:20250309T030000
TZOFFSETFROM:-0500
TZOFFSETTO:-0400
TZNAME:EDT
END:DAYLIGHT
BEGIN:STANDARD
DTSTART:20251102T010000
TZOFFSETFROM:-0400
TZOFFSETTO:-0500
TZNAME:EST
END:STANDARD
END:VTIMEZONE
END:VCALENDAR