BEGIN:VCALENDAR
VERSION:2.0
PRODID:-//wp-events-plugin.com//7.2.3.1//EN
TZID:America/New_York
X-WR-TIMEZONE:America/New_York
BEGIN:VEVENT
UID:2037@coolcleveland.com
DTSTART;TZID=America/New_York;VALUE=DATE:20250601
DTEND;TZID=America/New_York;VALUE=DATE:20250602
DTSTAMP:20260402T085959Z
URL:https://coolcleveland.com/events/heights-arts-close-encounters-series-
 closes-season-with-beethoven-quartets/
SUMMARY:Heights Arts' Close Encounters Series Closes Season with Beethoven 
 Quartets
DESCRIPTION:\nSun 6/1 @ 3-5PM\nHeights Arts’ Close Encounters series offe
 rs classical music fans the opportunity to hear some of the area’s best 
 musicians in informal intimate settings.\nNow it closes its season with an
  afternoon at the Kathy and Dennis Barrie’s Carriage House in Cleveland 
 Heights with a string quartet — all members of the Cleveland Orchestra. 
 Violinist Amy Lee and Alicia Koelz\, violist Joanna Patterson Zakany and c
 ellist Tanya Ell moonlight as the Omni Quartet\, which they founded in 200
 9.\nThey’ll be performing Beethoven’s 1808 String Quartet No. 8 in E m
 inor\, Op. 59\, No. 2 and the 1825 String Quartet No. 12 in E-flat Major\,
  Op. 127.\nThe concert also includes dessert from Luna Café. Go here for 
 tickets.\n
ATTACH;FMTTYPE=image/jpeg:https://coolcleveland.com/wp-content/uploads/202
 5/05/CloseEncounters.jpg
CATEGORIES:Eats,Performance,----WRITERS----,Anastasia
 Pantsios,Preview,RSS,Music: Classical,Tags
END:VEVENT
BEGIN:VTIMEZONE
TZID:America/New_York
X-LIC-LOCATION:America/New_York
BEGIN:DAYLIGHT
DTSTART:20250309T030000
TZOFFSETFROM:-0500
TZOFFSETTO:-0400
TZNAME:EDT
END:DAYLIGHT
END:VTIMEZONE
END:VCALENDAR