BEGIN:VCALENDAR
VERSION:2.0
PRODID:-//wp-events-plugin.com//7.2.3.1//EN
TZID:America/New_York
X-WR-TIMEZONE:America/New_York
BEGIN:VEVENT
UID:2743@coolcleveland.com
DTSTART;TZID=America/New_York;VALUE=DATE:20260425
DTEND;TZID=America/New_York;VALUE=DATE:20260426
DTSTAMP:20260421T040141Z
URL:https://coolcleveland.com/events/geauga-park-district-invites-kids-to-
 get-up-close-and-personal-with-working-vehicles/
SUMMARY:Geauga Park District Invites Kids to Get Up Close and Personal with
  Working Vehicles
DESCRIPTION:\nSat 4/25 @ 9AM-1PM\nTouch-a-Truck events at park districts an
 d other venues have become wildly popular and proliferated in the past few
  years\, with little kids (and their parents0 enthralled by giant vehicles
 .Generally\, these events are in the late summer\, but Geauga Park Distric
 t is getting a jump on everyone with its event at The West Woods this week
 end\, just in time for Ohio MOVES: Transportation Month.\nThere kids can g
 et up close to tractors\, trucks and construction equipment and learn abou
 t their functions in running\, upgrading and repairing the district’s pa
 rks. They can even climb up on some of the vehicles and pretend they’re 
 in charge. It’s free and no registration is required. Just show up.\nFor
  more information go to www.geaugaparkdistrict.org. There’ll be a free s
 chool bus-style shuttle from the parking lot at ASM International about a 
 half mile from the West Woods in case it’s onsite parking is full – bu
 t kids are already familiar with THAT vehicle.\n[mappress mapid="3349"]
ATTACH;FMTTYPE=image/jpeg:https://coolcleveland.com/wp-content/uploads/202
 6/04/TouchATruck.jpg
CATEGORIES:Kids,Education,----WRITERS----,Outdoors,Anastasia
 Pantsios,Preview,Free,Transportation
END:VEVENT
BEGIN:VTIMEZONE
TZID:America/New_York
X-LIC-LOCATION:America/New_York
BEGIN:DAYLIGHT
DTSTART:20260308T030000
TZOFFSETFROM:-0500
TZOFFSETTO:-0400
TZNAME:EDT
END:DAYLIGHT
END:VTIMEZONE
END:VCALENDAR