BEGIN:VCALENDAR
VERSION:2.0
PRODID:-//wp-events-plugin.com//7.2.3.1//EN
TZID:America/New_York
X-WR-TIMEZONE:America/New_York
BEGIN:VEVENT
UID:1854@coolcleveland.com
DTSTART;TZID=America/New_York;VALUE=DATE:20250627
DTEND;TZID=America/New_York;VALUE=DATE:20250630
DTSTAMP:20260402T081649Z
URL:https://coolcleveland.com/events/food-trucks-roll-into-lincoln-park-fo
 r-tremont-food-truck-festival/
SUMMARY:Food Trucks Roll Into Lincoln Park for Tremont Food Truck Festival
DESCRIPTION:\n\nFri 6/27-Sun 6/29\nOnce unheard of\, food trucks have now b
 ecome ubiquitous\, providing eats at all sorts of occasions and special ev
 ents\, and often becoming a steppingstone to a chef opening a brick-and-mo
 rtar establishment.\nIn event more recent years\, Food Truck Festivals hav
 e been popping up\, giving people the chance to try multiple mobile menus 
 all in one place. They’re be parked at Lincoln Park for the second annua
 l Tremont Food Truck Festival this weekend. There’ll be around two dozen
  food trucks\, as well as non-food maker/vendors\, beer\, wine and boozy l
 emonade from Happy Camper Bar Car\, a mobile cigar lounge\, live music and
  a food truck competition.\nfood-truck-festival/1139189711246029/\n[mappre
 ss mapid="3015"]
ATTACH;FMTTYPE=image/jpeg:https://coolcleveland.com/wp-content/uploads/202
 5/06/TremontFoodTruckFestival.jpeg
CATEGORIES:Drinks,college,Teen,Kids,Entrepreneurialism,Eats,Performance,--
 --WRITERS----,Outdoors,Music: Popular,Anastasia
 Pantsios,Preview,Free,RSS,Contest,Tags
END:VEVENT
BEGIN:VTIMEZONE
TZID:America/New_York
X-LIC-LOCATION:America/New_York
BEGIN:DAYLIGHT
DTSTART:20250309T030000
TZOFFSETFROM:-0500
TZOFFSETTO:-0400
TZNAME:EDT
END:DAYLIGHT
END:VTIMEZONE
END:VCALENDAR