BEGIN:VCALENDAR
VERSION:2.0
PRODID:-//wp-events-plugin.com//7.2.3.1//EN
TZID:America/New_York
X-WR-TIMEZONE:America/New_York
BEGIN:VEVENT
UID:2751@coolcleveland.com
DTSTART;TZID=America/New_York;VALUE=DATE:20260426
DTEND;TZID=America/New_York;VALUE=DATE:20260427
DTSTAMP:20260421T042548Z
URL:https://coolcleveland.com/events/fellow-local-musicians-celebrate-the-
 music-of-singer-pianist-rachel-brown/
SUMMARY:Fellow Local Musicians Celebrate the Music of Singer/Pianist Rachel
  Brown
DESCRIPTION:\nSun 4/26 @ 7PM\nFor about a decade and a half\, singer/songwr
 iter/guitarist Alex Bevan\, along with fellow (retired) musician Charlie W
 iener\, has been co-hosting a series of “In Celebration of” shows\, mo
 stly at the Beachland Ballroom\, paying tribute to musicians who have had 
 a major influence in the Northeast Ohio music scene. They’ve included tr
 ibutes to artist such as Michael Stanley\, I-Tal founder Dave Smeltz\, Car
 los Jones\, early ’80s pop band The Generators\, the Numbers Band and mo
 re.\nThis time\, they’re feting a musician who is still very active in t
 he local music scene — Lorain County-based singer/pianist/educator Rache
 l Brown who performs with her band of seasoned veterans the Beatnik Playbo
 ys. She’s known especially for her sultry vocals that blend folk\, pop\,
  blues\, jazz and country influences\, with overtones of singers from Pats
 y Cline to Sarah Vaughan\, blended in her own distinctive style.\nThe musi
 cians who’ll be honoring her include Bevan\, Bent String\, Jeff Varga\, 
 Kristine Jackson\, Cary Mathews\, Brent Kirby\, Becky Boyd\, Robert and Ja
 ck Kidney of the Numbers Band\, Mark Freeman and the Elders and special gu
 est Andy Leach\, along with the Beatnik Playboys.\nIt’s a primarily seat
 ed\, general admission show. Get tickets here. Money raised benefits Cleve
 land Rocks: Past Present Future\, who offers programs to help Cleveland-ar
 ea musicians advance their careers.\nin-celebration-of-a-tribute-to-rachel
 -brown\n[mappress mapid="462"]
ATTACH;FMTTYPE=image/jpeg:https://coolcleveland.com/wp-content/uploads/202
 6/04/RachelBrownGlamor.jpg
CATEGORIES:Drinks,college,Music: Rock and
 Roll,Eats,Performance,----WRITERS----,Music: Popular,Anastasia
 Pantsios,Preview,RSS,Music: Jazz / Blues,Benefit
END:VEVENT
BEGIN:VTIMEZONE
TZID:America/New_York
X-LIC-LOCATION:America/New_York
BEGIN:DAYLIGHT
DTSTART:20260308T030000
TZOFFSETFROM:-0500
TZOFFSETTO:-0400
TZNAME:EDT
END:DAYLIGHT
END:VTIMEZONE
END:VCALENDAR