BEGIN:VCALENDAR
VERSION:2.0
PRODID:-//wp-events-plugin.com//7.2.3.1//EN
TZID:America/New_York
X-WR-TIMEZONE:America/New_York
BEGIN:VEVENT
UID:1492@coolcleveland.com
DTSTART;TZID=America/New_York;VALUE=DATE:20250829
DTEND;TZID=America/New_York;VALUE=DATE:20250902
DTSTAMP:20260402T063143Z
URL:https://coolcleveland.com/events/enjoy-four-days-of-food-rides-and-mus
 ic-at-st-roccos-festival/
SUMMARY:Enjoy Four Days of Food\, Rides and Music at St. Rocco's Festival
DESCRIPTION:\nFri 8/29-Mon 9/1\nIt’s the height of ethnic church festival
  season\, and on the calendar for Labor Day weekend is St. Rocco’s Paris
 h\, in the Clark-Fulton neighborhood\, another chance to scarf up a lot of
  Italian food\, a favorite of Clevelanders.\nFor four days\, from noon-10p
 m Friday through Sunday and noon-9pm Monday\, visitors can enjoy a full fe
 stival experience\, including carnival rides\, games and music — mostly 
 a bunch of cover bands\, including female rockers Medusa from 3-6pm Saturd
 ay. There’s also a drive-through if you’re just interested in food.\nO
 n Sunday at 10am there’s a solemn mass with Bishop Spinoza followed a pr
 ocession through the streets. The festival is free and open to all. Bring 
 your appetite!\nwww.facebook.com/events/\n[mappress mapid="5029"]
ATTACH;FMTTYPE=image/jpeg:https://coolcleveland.com/wp-content/uploads/202
 5/08/StRoccoFestival.jpeg
CATEGORIES:Performance,Contest,Sport,RSS,Free,Preview,Anastasia
 Pantsios,Music: Popular,Outdoors,----WRITERS----,Dance,Drinks,Eats,Civic
 Affairs,Entrepreneurialism,Education,Music: Rock and
 Roll,Spirituality,Kids,Teen,college
END:VEVENT
BEGIN:VTIMEZONE
TZID:America/New_York
X-LIC-LOCATION:America/New_York
BEGIN:DAYLIGHT
DTSTART:20250309T030000
TZOFFSETFROM:-0500
TZOFFSETTO:-0400
TZNAME:EDT
END:DAYLIGHT
END:VTIMEZONE
END:VCALENDAR