BEGIN:VCALENDAR
VERSION:2.0
PRODID:-//wp-events-plugin.com//7.2.3.1//EN
TZID:America/New_York
X-WR-TIMEZONE:America/New_York
BEGIN:VEVENT
UID:2721@coolcleveland.com
DTSTART;TZID=America/New_York;VALUE=DATE:20260427
DTEND;TZID=America/New_York;VALUE=DATE:20260428
DTSTAMP:20260421T033851Z
URL:https://coolcleveland.com/events/dobama-presents-a-reading-of-a-new-wo
 rk-about-a-girl-living-through-the-bronx-fires-of-the-70s/
SUMMARY:Dobama Presents a Reading of a New Work About a Girl Living Through
  the Bronx Fires of the 70s
DESCRIPTION:\nMon 4/27 @ 7PM\nCleveland Heights’ Dobama Theatre\, which p
 resents new\, cutting-edge and often socially relevant theater\, also has 
 a professional playwright unit called The Playwrights’ GYM. It meets mon
 thly so writers can share what they’re working on and get informed feedb
 ack from other members. It currently has about a dozen members\, including
  some very well-known local names and others we haven’t heard — yet.\n
 This month’s reading\, taking place in the Dobama Arts Space on the seco
 nd floor of its theater\, is …Da Bronx Is Burn’n by Dayshawnda Ash. It
 ’s described as a “visceral\, movement-driven play set in the Bronx in
  the late 70s.” That era\, one of the lowest points in NYC history\, was
  noted for the Bronx landlords who burned down their own buildings rather 
 than keep them up\, leaving vast swaths of the borough vacant. Ash’s pla
 y revolves around a teenage girl named Jamie watching as the city burns up
  and finding refuge in dance as a tool of survival and self-discovery.\nTh
 e reading is free and open to all.\ndobama.org/calendar/ash
ATTACH;FMTTYPE=image/jpeg:https://coolcleveland.com/wp-content/uploads/202
 6/04/DobamaGymShorts.jpeg
CATEGORIES:college,Teen,Performance,Theatre,----WRITERS----,Anastasia
 Pantsios,Preview,Free,RSS,Literary
END:VEVENT
BEGIN:VTIMEZONE
TZID:America/New_York
X-LIC-LOCATION:America/New_York
BEGIN:DAYLIGHT
DTSTART:20260308T030000
TZOFFSETFROM:-0500
TZOFFSETTO:-0400
TZNAME:EDT
END:DAYLIGHT
END:VTIMEZONE
END:VCALENDAR