BEGIN:VCALENDAR
VERSION:2.0
PRODID:-//wp-events-plugin.com//7.2.3.1//EN
TZID:America/New_York
X-WR-TIMEZONE:America/New_York
BEGIN:VEVENT
UID:133@coolcleveland.com
DTSTART;TZID=America/New_York:20260312T000000
DTEND;TZID=America/New_York:20260404T000000
DTSTAMP:20260402T040950Z
URL:https://coolcleveland.com/events/dobama-hosts-regional-premiere-by-acc
 laimed-off-broadway-playwright/
SUMMARY:Dobama Hosts Regional Premiere by Acclaimed Off-Broadway Playwright
DESCRIPTION:\nThu 3/12-Sat 4/4\nEast Coast-based playwright Branden Jacobs-
 Jenkins is red-hot right now: his play Purpose\, his first to be staged on
  Broadway\, won the 2025 Pulitzer Prize for Drama\; two of his earlier pla
 ys were finalists in 2016 and 2018. He initially made a splash with his 20
 14 off-Broadway show An Octoroon. He’s been a MacArthur and Guggenheim F
 ellow and won a Fulbright Award.\nBefore Purpose\, he wrote The Comeuppanc
 e\, which was performed off Broadway in 2023. It has a Big Chill sort of p
 remise: it revolves around five high school classmates reassembling before
  their 20th reunion and\, with tongues loosened by pot and alcohol\, start
  to share how their lives have gone\, reflecting on the passage of time\, 
 aging and death. “But amid the flow of reminiscing\, an otherworldly pre
 sence forces these friends to face the past head-on\,” we’re told.\nTh
 e play is described as a “comedy" by Dobama Theatre which will present i
 ts regional premiere\, directed by Nina Domingue. Hopefully that’s accur
 ate because it’s 130 minutes (two+ hours) with no intermission\, so hope
 fully there’s levity to relieve the intension. The cast includes Ananias
  J. Dixon\, Mariah Burks\, Roxana Bell\, Rachel Lee Kolis and Ricky Ortega
  as the former classmates.\nThe Comeuppance runs through Saturday April 4.
  Get tickets here.\ndobama.org/comeuppance\n[mappress mapid="772"]
ATTACH;FMTTYPE=image/jpeg:https://coolcleveland.com/wp-content/uploads/202
 6/03/DobamaComeup.jpg
CATEGORIES:college,Performance,Theatre,----WRITERS----,Anastasia
 Pantsios,Preview,RSS
END:VEVENT
BEGIN:VTIMEZONE
TZID:America/New_York
X-LIC-LOCATION:America/New_York
BEGIN:DAYLIGHT
DTSTART:20260308T030000
TZOFFSETFROM:-0500
TZOFFSETTO:-0400
TZNAME:EDT
END:DAYLIGHT
END:VTIMEZONE
END:VCALENDAR