BEGIN:VCALENDAR
VERSION:2.0
PRODID:-//wp-events-plugin.com//7.2.3.1//EN
TZID:America/New_York
X-WR-TIMEZONE:America/New_York
BEGIN:VEVENT
UID:2720@coolcleveland.com
DTSTART;TZID=America/New_York;VALUE=DATE:20260425
DTEND;TZID=America/New_York;VALUE=DATE:20260426
DTSTAMP:20260421T033450Z
URL:https://coolcleveland.com/events/dancecleveland-presents-ohio-debut-of
 -new-yorks-yy-dance-company/
SUMMARY:DANCECleveland Presents Ohio Debut of New York's YY Dance Company
DESCRIPTION:\nSat 4/25 @ 7:30PM\nThis weekend\, DANCECleveland closes it 20
 25-26 season presenting something totally new to Northeast Ohio: the New Y
 ork City-based YY Dance Company makes its Ohio debut at Playhouse Square
 ’s Mimi Ohio Theatre.\nFounded in 2018 by company director\, choreograph
 y Yue Yin\, the company itself is relatively new in a world where top mode
 rn and contemporary dance companies can be decades old. Yue trained in Chi
 nese classical dance in her native country\, before creating her own trade
 marked style\, FoCo technique\, which includes elements of Chinese classic
 al dance\, ballet\, contemporary movement and folk dance. She’s produced
  new works for old companies such as the Boston Ballet\, Limon Dance Compa
 ny and the Martha Graham Dance Company\, which is a century old this year.
 \nIn Cleveland\, the company will present a duet called “A Measurable Ex
 perience\,” a solo dance by Yue called “Echo\, a full ensemble piece c
 alled “Sigra Sigra\,” and “Through the Facture of Light.”\nGet tic
 kets here.\ndancecleveland/yy-dance-company\nOn April 25 at 10am\, the com
 pany’s rehearsal director Grace Whitworth will teach at master class at 
 Playhouse Square’s Idea Center. It’s open to intermediate dancers 14 a
 nd over. It’s free\, but RSVP is required here.\n[mappress mapid="624"]
ATTACH;FMTTYPE=image/jpeg:https://coolcleveland.com/wp-content/uploads/202
 6/04/DanceCleveland.jpeg
CATEGORIES:college,Education,Performance,Dance,----WRITERS----,Anastasia
 Pantsios,Preview,RSS
END:VEVENT
BEGIN:VTIMEZONE
TZID:America/New_York
X-LIC-LOCATION:America/New_York
BEGIN:DAYLIGHT
DTSTART:20260308T030000
TZOFFSETFROM:-0500
TZOFFSETTO:-0400
TZNAME:EDT
END:DAYLIGHT
END:VTIMEZONE
END:VCALENDAR