BEGIN:VCALENDAR
VERSION:2.0
PRODID:-//wp-events-plugin.com//7.2.3.1//EN
TZID:America/New_York
X-WR-TIMEZONE:America/New_York
BEGIN:VEVENT
UID:2716@coolcleveland.com
DTSTART;TZID=America/New_York;VALUE=DATE:20260424
DTEND;TZID=America/New_York;VALUE=DATE:20260425
DTSTAMP:20260421T014249Z
URL:https://coolcleveland.com/events/cleveland-pops-orchestra-and-guests-p
 ay-tribute-to-steven-spielberg-and-john-williams/
SUMMARY:Cleveland Pops Orchestra and Guests Pay Tribute to Steven Spielberg
  and John Williams
DESCRIPTION:\nFri 4/24 @ 7:30PM\nWhen the Cleveland Pops Orchestra returns 
 to Severance Music Center for its next concert of the season\, it will fea
 ture two special guests form different corners of Cleveland’s music work
 . Bass clarinetist Amy Zoloto is a member of the Cleveland Orchestra and f
 ormer member of the New York Philharmonic\, with a background as a chamber
  musician and educator. Saxophonist/composer Howie Smith is a professor em
 eritus of jazz studies at Cleveland State University where he taught from 
 1979-2005\; he still actively performs throughout the area.\nThey’ll joi
 n CJO and the Cleveland Pops Chorus for an evening of music paying tribute
  to the director/composer team of Steven Spielberg and John Williams\, who
 se collaborations included iconic scores for blockbusters such as Jaws\, E
 .T.\,Jurassic Park\, Saving Private Ryan\, the Indiana Jones films\, and m
 any others.\nGo here for tickets.\n[mappress mapid="5027"]
ATTACH;FMTTYPE=image/jpeg:https://coolcleveland.com/wp-content/uploads/202
 6/04/ClevelandPops.jpeg
CATEGORIES:college,Teen,Kids,Performance,Film,----WRITERS----,Music:
 Popular,Anastasia Pantsios,Preview,RSS
END:VEVENT
BEGIN:VTIMEZONE
TZID:America/New_York
X-LIC-LOCATION:America/New_York
BEGIN:DAYLIGHT
DTSTART:20260308T030000
TZOFFSETFROM:-0500
TZOFFSETTO:-0400
TZNAME:EDT
END:DAYLIGHT
END:VTIMEZONE
END:VCALENDAR