BEGIN:VCALENDAR
VERSION:2.0
PRODID:-//wp-events-plugin.com//7.2.3.1//EN
TZID:America/New_York
X-WR-TIMEZONE:America/New_York
BEGIN:VEVENT
UID:249@coolcleveland.com
DTSTART;TZID=America/New_York;VALUE=DATE:20260302
DTEND;TZID=America/New_York;VALUE=DATE:20260315
DTSTAMP:20260402T042145Z
URL:https://coolcleveland.com/events/cleveland-independents-celebrating-it
 s-20th-year-hosts-18th-restaurant-week/
SUMMARY:Cleveland Independents\, Celebrating Its 20th Year\, Hosts 18th Res
 taurant Week
DESCRIPTION:\nMon 3/2-Sat 3/14\nAs it celebrates its 20th anniversary as an
  organization bringing together locally owned independent restaurants to a
 mplify promotion of the local culinary scene\, Cleveland Independents is h
 osting its 18th Cleveland Restaurant Week from Monday March 2 through Satu
 rday March 14.\nYes\, it’s definition of a “week” is fortunately ver
 y generous\, giving amateur foodies more opportunities to try out new plac
 es or visit old favorites. Each of the nearly three dozen establishments\,
  located from Bay Village to Mayfield Heights to Aurora\, will be offering
  three-course\, fixed-price menus which you can preview in advance on the 
 Cleveland Independents’ website. The specific courses and range of choic
 es varies from restaurant to restaurant — some offer multiple choices pe
 r course\, while others have a set menu. Cleveland Independents members ru
 n the gamut from casual eateries to more formal\, special-occasion places.
 \nclevelandrestaurantweek.com\n
ATTACH;FMTTYPE=image/jpeg:https://coolcleveland.com/wp-content/uploads/202
 6/02/ClevelandIndependents.jpeg
CATEGORIES:Drinks,college,Entrepreneurialism,Eats,----WRITERS----,Anastasi
 a Pantsios,Preview,RSS
END:VEVENT
BEGIN:VTIMEZONE
TZID:America/New_York
X-LIC-LOCATION:America/New_York
BEGIN:STANDARD
DTSTART:20251102T010000
TZOFFSETFROM:-0400
TZOFFSETTO:-0500
TZNAME:EST
END:STANDARD
BEGIN:DAYLIGHT
DTSTART:20260308T030000
TZOFFSETFROM:-0500
TZOFFSETTO:-0400
TZNAME:EDT
END:DAYLIGHT
END:VTIMEZONE
END:VCALENDAR