BEGIN:VCALENDAR
VERSION:2.0
PRODID:-//wp-events-plugin.com//7.2.3.1//EN
TZID:America/New_York
X-WR-TIMEZONE:America/New_York
BEGIN:VEVENT
UID:111@coolcleveland.com
DTSTART;TZID=America/New_York;VALUE=DATE:20260319
DTEND;TZID=America/New_York;VALUE=DATE:20260320
DTSTAMP:20260402T040750Z
URL:https://coolcleveland.com/events/cleveland-composers-guild-concert-jux
 taposes-members-work-with-american-classics/
SUMMARY:Cleveland Composers Guild Concert Juxtaposes Members' Work With Ame
 rican Classics
DESCRIPTION:\nThu 3/19 @ 7PM\nThe Cleveland Composers Guild has been around
  more than 60 years\, encouraging composers to create by collaborating wit
 h various musical organizations to offer opportunities for performances.\n
 \nIts upcoming concert\, An American Mosaic: Songs of Home\, Journeys and 
 Encounters with the Unknown\, is co-presented by John Carroll University. 
 It explores through music how migration and place have impacted American c
 ultural traditions. New compositions for voice and piano will mingle with 
 classic pieces by American composers such as George Gershwin\, Aaron Copla
 nd\, Ricky Gordon and John Phillip Sousa played by the JCU wind ensemble.\
 n\nSoprano Laura Fisk\, mezzo-soprano Claire Connelly\, tenor Matthew Jone
 s\, baritone John Gray Watson and pianist Allison Hiller will perform piec
 es by Cleveland composers Ryan Charles Ramer\, Lorenzo Salvagni\, Matthew 
 C. Saunders\, Stephen Stanziano\, Robert Rollin\, and Jeffrey Quick.\n\nTh
 e concert takes place at JCU’s St. Francis Chapel. It’s free and open 
 to the public. Get more information here.\n\n[mappress mapid="1347"]
ATTACH;FMTTYPE=image/jpeg:https://coolcleveland.com/wp-content/uploads/202
 6/03/ClevelandComposersGuild.jpg
CATEGORIES:college,Performance,----WRITERS----,Anastasia
 Pantsios,Preview,Free,RSS,Music: Classical
END:VEVENT
BEGIN:VTIMEZONE
TZID:America/New_York
X-LIC-LOCATION:America/New_York
BEGIN:DAYLIGHT
DTSTART:20260308T030000
TZOFFSETFROM:-0500
TZOFFSETTO:-0400
TZNAME:EDT
END:DAYLIGHT
END:VTIMEZONE
END:VCALENDAR