BEGIN:VCALENDAR
VERSION:2.0
PRODID:-//wp-events-plugin.com//7.2.3.1//EN
TZID:America/New_York
X-WR-TIMEZONE:America/New_York
BEGIN:VEVENT
UID:2711@coolcleveland.com
DTSTART;TZID=America/New_York;VALUE=DATE:20260425
DTEND;TZID=America/New_York;VALUE=DATE:20260426
DTSTAMP:20260421T012341Z
URL:https://coolcleveland.com/events/cleveland-burlesque-is-back-at-the-be
 achland-with-glamour-and-live-singing/
SUMMARY:Cleveland Burlesque Is Back at the Beachland With Glamour and Live 
 Singing
DESCRIPTION:\nSat 4/25 @ 8:30PM\nOnce again\, glamour\, sparkle\, beauty an
 d fun will flood the stage of the Beachland Ballroom when Cleveland Burles
 que returns to present Burlesque! Burlesque!\, which it describes as “a 
 high-energy celebration of the art form’s past\, present\, and beyond 
 … a  call back to the golden age of burlesque.”\nThe show will featur
 e some of the area’s outstanding burlesque artists from a talent pool th
 at’s equal to that of almost any area\, along with live singers\, which 
 undoubtedly means that Northeast Ohio’s Monica Mod will be belting out a
  couple of powerful tunes. Expect a dose of humor along with the glamour i
 n a showcase of the diversity of area performers championed by Cleveland B
 urlesque founder (and the area’s most famous burlesque performer) Bella 
 Sin.\nIt’s an 18 and over event. Go here for tickets.\n[mappress mapid="
 462"]
ATTACH;FMTTYPE=image/jpeg:https://coolcleveland.com/wp-content/uploads/202
 6/04/ClevelandBurlesque.jpeg
CATEGORIES:Drinks,college,Comedy,Fashion,Eats,Performance,Dance,Theatre,--
 --WRITERS----,Music: Popular,Anastasia Pantsios,Preview,RSS
END:VEVENT
BEGIN:VTIMEZONE
TZID:America/New_York
X-LIC-LOCATION:America/New_York
BEGIN:DAYLIGHT
DTSTART:20260308T030000
TZOFFSETFROM:-0500
TZOFFSETTO:-0400
TZNAME:EDT
END:DAYLIGHT
END:VTIMEZONE
END:VCALENDAR