BEGIN:VCALENDAR
VERSION:2.0
PRODID:-//wp-events-plugin.com//7.2.3.1//EN
TZID:America/New_York
X-WR-TIMEZONE:America/New_York
BEGIN:VEVENT
UID:1724@coolcleveland.com
DTSTART;TZID=America/New_York;VALUE=DATE:20250716
DTEND;TZID=America/New_York;VALUE=DATE:20250720
DTSTAMP:20260402T074957Z
URL:https://coolcleveland.com/events/borderlight-festival-is-back-with-fou
 r-days-of-performance-at-playhouse-square/
SUMMARY:Borderlight Festival Is Back with Four Days of Performances at Play
 house Square
DESCRIPTION:\nWed 7/16-Sat 7/19\nCleveland’s BorderLight Theatre Festival
  had its first event in 2019 and then ran into the headwinds of the pandem
 ic—and survived. It went virtual in 2021 and had an all-fringe festival.
  Now it seems to have leaned into the “fringe” aspect with a festival 
 that’s heavy on local artists\, not a problem given how this region teem
 s with theater and other performing talent.\nIt’s offering 40 production
 s on 16 stages in and around Playhouse Square. They include standard acted
  scripts\, but also music\, dance\, storytelling\, circus acts\, butoh\, m
 agic\, comedy\, poetry\, monologues\, interactive shows and more. Some are
  lighthearted\, just for fun\, some tell historical or personal stories\, 
 and others address powerful contemporary issues.\nIt kicks off on Wednesda
 y July 16 from 7-9:30pm with a program called Fringe Unleashed\, which pre
 views the offerings of the next three days\, giving attendees a chance to 
 learn about the lineup\, meet the artists and see pop-up mini-performances
 . On Saturday from noon-5pm\, Fringe Jr invites kids\, teens\, adults and 
 families to take in a slate of shows suited to younger theatergoers\, with
  productions rated 9-12 or 14+.  that appeal to kids\, teens\, and adults
  alike—each with its own recommended age range and content advisories to
  help families make informed choices\, from all ages to 8–13 or 14+.\nFo
 r more information and a full schedule go to borderlightcle.org/2025-festi
 val/.\n[mappress mapid="1029"]
ATTACH;FMTTYPE=image/jpeg:https://coolcleveland.com/wp-content/uploads/202
 5/07/Borderlight.jpeg
CATEGORIES:Performance,Tags,Literary,RSS,Preview,Anastasia Pantsios,Music:
 Popular,Outdoors,----WRITERS----,Visual
 Arts,Theatre,Dance,Drinks,Festival,Eats,Civic
 Affairs,History,Entrepreneurialism,Comedy,Education,Culture,Kids,Teen,coll
 ege
END:VEVENT
BEGIN:VTIMEZONE
TZID:America/New_York
X-LIC-LOCATION:America/New_York
BEGIN:DAYLIGHT
DTSTART:20250309T030000
TZOFFSETFROM:-0500
TZOFFSETTO:-0400
TZNAME:EDT
END:DAYLIGHT
END:VTIMEZONE
END:VCALENDAR