BEGIN:VCALENDAR
VERSION:2.0
PRODID:-//wp-events-plugin.com//7.2.3.1//EN
TZID:America/New_York
X-WR-TIMEZONE:America/New_York
BEGIN:VEVENT
UID:2636@coolcleveland.com
DTSTART;TZID=America/New_York;VALUE=DATE:20260412
DTEND;TZID=America/New_York;VALUE=DATE:20260413
DTSTAMP:20260406T012243Z
URL:https://coolcleveland.com/events/beachland-hosts-a-spring-flea-market-
 aimed-at-rock-roll-fans/
SUMMARY:Beachland Hosts A Spring Flea Market\, Aimed at Rock & Roll Fans
DESCRIPTION:\nSun 4/12 @ 10AM-3PM\nYou don’t have to wait until summer fo
 r one of the Beachland’s rock &amp\; roll-oriented flea markets. This ye
 ar it’s hosting at Spring Flea to get you primed for the new season. The
 re’ll be nearly two dozen vendors onsite\, selling the types of items th
 at appeal to music fans: vinyl records\, of course\, but also things such 
 as original artwork\, vintage clothing\, band T-shirts and other memorabil
 ia such as posters\, books and more\, and retro collectibles. The Beachlan
 d’s own vintage record and clothing shop This Way Out will be open\, and
  food and drinks will be available in the Tavern.\nAdmission is free for s
 hoppers.\nbeachland-spring-flea-12-apr\n[mappress mapid="462"]
ATTACH;FMTTYPE=image/jpeg:https://coolcleveland.com/wp-content/uploads/202
 6/04/BeachlandFlea.jpeg
CATEGORIES:Drinks,college,Entrepreneurialism,Fashion,Eats,Visual
 Arts,----WRITERS----,Anastasia Pantsios,Preview,Free,RSS
END:VEVENT
BEGIN:VTIMEZONE
TZID:America/New_York
X-LIC-LOCATION:America/New_York
BEGIN:DAYLIGHT
DTSTART:20260308T030000
TZOFFSETFROM:-0500
TZOFFSETTO:-0400
TZNAME:EDT
END:DAYLIGHT
END:VTIMEZONE
END:VCALENDAR